BEGIN:VCALENDAR
VERSION:2.0
PRODID:-//Intand Corporation//Tandem//EN
METHOD:PUBLISH
BEGIN:VEVENT
DTSTAMP:20260420T054443Z
DTSTART:20260331T211500Z
DTEND:20260401T003000Z
TRANSP:TRANSPARENT
PRIORITY:0
SUMMARY:Tennis-V Boys @ Champaign Central HS (Game)
LOCATION:UNKNOWN
DESCRIPTION:Groups:\nBoys Varsity Tennis (Away)\n\nSchools:\nUniversity Hi
 gh School (Away)\n\nLocation:\nUNKNOWN\n\n
URL;VALUE=URI:https://uhigh.tandem.co/index.php?type=view&action=event&id=
 11467970
CREATED:20250713T130219Z
LAST-MODIFIED:20250713T130219Z
UID:event-11467970-uhigh@intand.com
END:VEVENT
END:VCALENDAR
