BEGIN:VCALENDAR
VERSION:2.0
PRODID:-//Intand Corporation//Tandem//EN
METHOD:PUBLISH
BEGIN:VEVENT
DTSTAMP:20260420T084945Z
DTSTART:20260508T003000Z
DTEND:20260508T023000Z
TRANSP:TRANSPARENT
PRIORITY:0
SUMMARY:Administration-N - VS  Band Concert
LOCATION:Stroud Auditorium
DESCRIPTION:Groups:\nAdmin (Home)\n\nSchools:\nUniversity High School (Hom
 e)\n\nLocation:\nStroud Auditorium\n\n
URL;VALUE=URI:https://uhigh.tandem.co/index.php?type=view&action=event&id=
 11468215
CREATED:20250713T130219Z
LAST-MODIFIED:20260413T190233Z
UID:event-11468215-uhigh@intand.com
END:VEVENT
END:VCALENDAR
