BEGIN:VCALENDAR
VERSION:2.0
PRODID:-//Intand Corporation//Tandem//EN
METHOD:PUBLISH
BEGIN:VEVENT
DTSTAMP:20260420T054332Z
DTSTART:20260416T220000Z
DTEND:20260416T233000Z
TRANSP:TRANSPARENT
PRIORITY:0
SUMMARY:Softball-V Girls @ Mahomet-Seymour High School (Game)
LOCATION:Mahomet-Seymour High School
DESCRIPTION:Groups:\nGirls Varsity Softball (Away)\n\nSchools:\nUniversity
  High School (Away)\n\nLocation:\nMahomet-Seymour High School\n\n
URL;VALUE=URI:https://uhigh.tandem.co/index.php?type=view&action=event&id=
 11468551
CREATED:20250713T130219Z
LAST-MODIFIED:20250713T130219Z
UID:event-11468551-uhigh@intand.com
END:VEVENT
END:VCALENDAR
