BEGIN:VCALENDAR
VERSION:2.0
PRODID:-//Intand Corporation//Tandem//EN
METHOD:PUBLISH
BEGIN:VEVENT
DTSTAMP:20260420T054444Z
DTSTART:20260407T213000Z
DTEND:20260407T230000Z
TRANSP:TRANSPARENT
PRIORITY:0
SUMMARY:Soccer-V Girls @ Jacksonville High School (Game)
LOCATION:UNKNOWN
DESCRIPTION:Groups:\nGirls Varsity Soccer (Away)\n\nSchools:\nUniversity H
 igh School (Away)\n\nLocation:\nUNKNOWN\n\n
URL;VALUE=URI:https://uhigh.tandem.co/index.php?type=view&action=event&id=
 11468568
CREATED:20250713T130219Z
LAST-MODIFIED:20250713T130219Z
UID:event-11468568-uhigh@intand.com
END:VEVENT
END:VCALENDAR
