BEGIN:VCALENDAR
VERSION:2.0
PRODID:-//Intand Corporation//Tandem//EN
METHOD:PUBLISH
BEGIN:VEVENT
DTSTAMP:20260420T054752Z
DTSTART:20260417T210000Z
DTEND:20260418T010000Z
TRANSP:TRANSPARENT
PRIORITY:0
SUMMARY:Tennis-JV Boys - VS Central Catholic High School (Game)
LOCATION:UNKNOWN
DESCRIPTION:Groups:\nJ/V Boys Tennis (Home)\n\nSchools:\nUniversity High S
 chool (Home)\n\nLocation:\nUNKNOWN\n\n
URL;VALUE=URI:https://uhigh.tandem.co/index.php?type=view&action=event&id=
 11468742
CREATED:20250713T130219Z
LAST-MODIFIED:20250713T130219Z
UID:event-11468742-uhigh@intand.com
END:VEVENT
END:VCALENDAR
